BEGIN:VCALENDAR
VERSION:2.0
PRODID:-//Singalong Altendiez - ECPv6.15.20//NONSGML v1.0//EN
CALSCALE:GREGORIAN
METHOD:PUBLISH
X-WR-CALNAME:Singalong Altendiez
X-ORIGINAL-URL:https://singalong-altendiez.de
X-WR-CALDESC:Veranstaltungen für Singalong Altendiez
REFRESH-INTERVAL;VALUE=DURATION:PT1H
X-Robots-Tag:noindex
X-PUBLISHED-TTL:PT1H
BEGIN:VTIMEZONE
TZID:Europe/Berlin
BEGIN:DAYLIGHT
TZOFFSETFROM:+0100
TZOFFSETTO:+0200
TZNAME:CEST
DTSTART:20240331T010000
END:DAYLIGHT
BEGIN:STANDARD
TZOFFSETFROM:+0200
TZOFFSETTO:+0100
TZNAME:CET
DTSTART:20241027T010000
END:STANDARD
BEGIN:DAYLIGHT
TZOFFSETFROM:+0100
TZOFFSETTO:+0200
TZNAME:CEST
DTSTART:20250330T010000
END:DAYLIGHT
BEGIN:STANDARD
TZOFFSETFROM:+0200
TZOFFSETTO:+0100
TZNAME:CET
DTSTART:20251026T010000
END:STANDARD
BEGIN:DAYLIGHT
TZOFFSETFROM:+0100
TZOFFSETTO:+0200
TZNAME:CEST
DTSTART:20260329T010000
END:DAYLIGHT
BEGIN:STANDARD
TZOFFSETFROM:+0200
TZOFFSETTO:+0100
TZNAME:CET
DTSTART:20261025T010000
END:STANDARD
END:VTIMEZONE
BEGIN:VEVENT
DTSTART;TZID=Europe/Berlin:20250625T180000
DTEND;TZID=Europe/Berlin:20250625T213000
DTSTAMP:20260420T201551
CREATED:20250530T084201Z
LAST-MODIFIED:20250530T084201Z
UID:96-1750874400-1750887000@singalong-altendiez.de
SUMMARY:Bimbes-Treff
DESCRIPTION:Am zweiten Bimbes-Treff in 2025 bieten wir wieder verschiedene Weine und kleine Snacks an. \nOrganisation: \n\nAufbau ab 16:30 Uhr\nAbbau ab 21:30 Uhr\n\nmit jeweils einer Person.
URL:https://singalong-altendiez.de/event/bimbes-treff-2/
LOCATION:Altendiez Rathaus\, Holzappeler Straße 3\, Altendiez\, Rheinland-Pfalz\, 65624\, Germany
CATEGORIES:Dorfleben
ATTACH;FMTTYPE=image/png:https://singalong-altendiez.de/wp-content/uploads/2025/05/Bimbestreff-2025-4zu3-819x1024-1.png
END:VEVENT
END:VCALENDAR