BEGIN:VCALENDAR
VERSION:2.0
PRODID:-//Singalong Altendiez - ECPv6.15.20//NONSGML v1.0//EN
CALSCALE:GREGORIAN
METHOD:PUBLISH
X-ORIGINAL-URL:https://singalong-altendiez.de
X-WR-CALDESC:Veranstaltungen für Singalong Altendiez
REFRESH-INTERVAL;VALUE=DURATION:PT1H
X-Robots-Tag:noindex
X-PUBLISHED-TTL:PT1H
BEGIN:VTIMEZONE
TZID:Europe/Berlin
BEGIN:DAYLIGHT
TZOFFSETFROM:+0100
TZOFFSETTO:+0200
TZNAME:CEST
DTSTART:20240331T010000
END:DAYLIGHT
BEGIN:STANDARD
TZOFFSETFROM:+0200
TZOFFSETTO:+0100
TZNAME:CET
DTSTART:20241027T010000
END:STANDARD
BEGIN:DAYLIGHT
TZOFFSETFROM:+0100
TZOFFSETTO:+0200
TZNAME:CEST
DTSTART:20250330T010000
END:DAYLIGHT
BEGIN:STANDARD
TZOFFSETFROM:+0200
TZOFFSETTO:+0100
TZNAME:CET
DTSTART:20251026T010000
END:STANDARD
BEGIN:DAYLIGHT
TZOFFSETFROM:+0100
TZOFFSETTO:+0200
TZNAME:CEST
DTSTART:20260329T010000
END:DAYLIGHT
BEGIN:STANDARD
TZOFFSETFROM:+0200
TZOFFSETTO:+0100
TZNAME:CET
DTSTART:20261025T010000
END:STANDARD
END:VTIMEZONE
BEGIN:VEVENT
DTSTART;VALUE=DATE:20250906
DTEND;VALUE=DATE:20250907
DTSTAMP:20260420T151927
CREATED:20250530T084904Z
LAST-MODIFIED:20250530T084910Z
UID:106-1757116800-1757203199@singalong-altendiez.de
SUMMARY:Sommerfest in der AWO
DESCRIPTION:AWO Seniorenzentrum in Diez\nDas diesjährige Sommerfest begleiten wir wieder musikalisch. \nDer Auftritt ist mit 20-30 Min. inklusive Pause angesetzt. \nNähere Informationen folgen.
URL:https://singalong-altendiez.de/event/sommerfest-in-der-awo/
LOCATION:AWO Seniorenzentrum Am Hain\, Christiansweg 1-5\, Diez an der Lahn\, Rheinland-Pfalz\, 65582\, Germany
CATEGORIES:Auftritt
END:VEVENT
END:VCALENDAR